BEGIN:VCALENDAR
VERSION:2.0
PRODID:-//Lakeshore Snowmobile Club - ECPv6.6.3//NONSGML v1.0//EN
CALSCALE:GREGORIAN
METHOD:PUBLISH
X-ORIGINAL-URL:http://lakeshoresc.org
X-WR-CALDESC:Events for Lakeshore Snowmobile Club
REFRESH-INTERVAL;VALUE=DURATION:PT1H
X-Robots-Tag:noindex
X-PUBLISHED-TTL:PT1H
BEGIN:VTIMEZONE
TZID:America/Chicago
BEGIN:DAYLIGHT
TZOFFSETFROM:-0600
TZOFFSETTO:-0500
TZNAME:CDT
DTSTART:20210314T080000
END:DAYLIGHT
BEGIN:STANDARD
TZOFFSETFROM:-0500
TZOFFSETTO:-0600
TZNAME:CST
DTSTART:20211107T070000
END:STANDARD
END:VTIMEZONE
BEGIN:VEVENT
DTSTART;TZID=America/Chicago:20211125T050000
DTEND;TZID=America/Chicago:20211125T233000
DTSTAMP:20260424T010000
CREATED:20181107T062835Z
LAST-MODIFIED:20211023T045713Z
UID:2485-1637816400-1637883000@lakeshoresc.org
SUMMARY:Happy Thanksgiving!
DESCRIPTION:A Happy & Healthy Thanksgiving to your Families & Friends!
URL:http://lakeshoresc.org/event/happy-thanksgiving/
LOCATION:WI
END:VEVENT
END:VCALENDAR