BEGIN:VCALENDAR
VERSION:2.0
PRODID:-//Lakeshore Snowmobile Club - ECPv6.6.3//NONSGML v1.0//EN
CALSCALE:GREGORIAN
METHOD:PUBLISH
X-WR-CALNAME:Lakeshore Snowmobile Club
X-ORIGINAL-URL:http://lakeshoresc.org
X-WR-CALDESC:Events for Lakeshore Snowmobile Club
REFRESH-INTERVAL;VALUE=DURATION:PT1H
X-Robots-Tag:noindex
X-PUBLISHED-TTL:PT1H
BEGIN:VTIMEZONE
TZID:America/Chicago
BEGIN:DAYLIGHT
TZOFFSETFROM:-0600
TZOFFSETTO:-0500
TZNAME:CDT
DTSTART:20220313T080000
END:DAYLIGHT
BEGIN:STANDARD
TZOFFSETFROM:-0500
TZOFFSETTO:-0600
TZNAME:CST
DTSTART:20221106T070000
END:STANDARD
END:VTIMEZONE
BEGIN:VEVENT
DTSTART;TZID=America/Chicago:20220209T190000
DTEND;TZID=America/Chicago:20220209T210000
DTSTAMP:20260421T021229
CREATED:20131201T210800Z
LAST-MODIFIED:20220207T051424Z
UID:787-1644433200-1644440400@lakeshoresc.org
SUMMARY:Alliance February Meeting
DESCRIPTION:7pm at Seven Lakes in Whitelaw.\n  Sponsored by the Lakeshore Snowmobile Club.
URL:http://lakeshoresc.org/event/alliance-meeting-6/
LOCATION:Seven Lakes\, Whitelaw\, WI\, United States
END:VEVENT
BEGIN:VEVENT
DTSTART;VALUE=DATE:20220210
DTEND;VALUE=DATE:20220211
DTSTAMP:20260421T021229
CREATED:20160108T192503Z
LAST-MODIFIED:20220207T052250Z
UID:1274-1644451200-1644537599@lakeshoresc.org
SUMMARY:Club Ride
DESCRIPTION:Join fellow club members for a weekend club ride in Antigo\, WI. \nMake your reservations by calling 715-623-0506\, and ask for Sarah.\nBe sure to mention Lakeshore Snowmobile Club.
URL:http://lakeshoresc.org/event/club-ride-3/
LOCATION:Sleep Inn – Antigo\, 525 Memory Lane\, Antigo\, WI\, United States
END:VEVENT
BEGIN:VEVENT
DTSTART;VALUE=DATE:20220211
DTEND;VALUE=DATE:20220212
DTSTAMP:20260421T021229
CREATED:20160108T192307Z
LAST-MODIFIED:20220207T052139Z
UID:1273-1644537600-1644623999@lakeshoresc.org
SUMMARY:Club Ride
DESCRIPTION:Join fellow club members for a weekend club ride in Antigo\, WI. \nMake your reservations by calling 715-623-0506\, and ask for Sarah.\nBe sure to mention Lakeshore Snowmobile Club.
URL:http://lakeshoresc.org/event/club-ride-2/
LOCATION:Sleep Inn – Antigo\, 525 Memory Lane\, Antigo\, WI\, United States
END:VEVENT
BEGIN:VEVENT
DTSTART;VALUE=DATE:20220212
DTEND;VALUE=DATE:20220213
DTSTAMP:20260421T021229
CREATED:20160108T192000Z
LAST-MODIFIED:20220207T052001Z
UID:1270-1644624000-1644710399@lakeshoresc.org
SUMMARY:Club Ride
DESCRIPTION:Join fellow club members for a weekend club ride in Antigo\, WI. \nMake your reservations by calling 715-623-0506\, and ask for Sarah.\nBe sure to mention Lakeshore Snowmobile Club.
URL:http://lakeshoresc.org/event/club-ride/
LOCATION:Sleep Inn – Antigo\, 525 Memory Lane\, Antigo\, WI\, United States
END:VEVENT
BEGIN:VEVENT
DTSTART;TZID=America/Chicago:20220216T190000
DTEND;TZID=America/Chicago:20220216T210000
DTSTAMP:20260421T021229
CREATED:20131201T211403Z
LAST-MODIFIED:20220207T051337Z
UID:790-1645038000-1645045200@lakeshoresc.org
SUMMARY:February Club Meeting & Nominations
DESCRIPTION:If you’re interested in eating before the meeting\, be there by 5:30pm.   \nHere’s your chance to become more involved with the club!\nAgree to be an Officer! \nCome to the meeting to be eligible for the meeting attendance drawing prize.
URL:http://lakeshoresc.org/event/club-meeting-5/
LOCATION:The Big Apple\, County Road R\, Rockwood\, WI\, United States
END:VEVENT
END:VCALENDAR